BEGIN:VCALENDAR
VERSION:2.0
PRODID:-//Port de Mataró - ECPv6.15.20//NONSGML v1.0//EN
CALSCALE:GREGORIAN
METHOD:PUBLISH
X-ORIGINAL-URL:https://portmataro.org
X-WR-CALDESC:Esdeveniments per Port de Mataró
REFRESH-INTERVAL;VALUE=DURATION:PT1H
X-Robots-Tag:noindex
X-PUBLISHED-TTL:PT1H
BEGIN:VTIMEZONE
TZID:Europe/Madrid
BEGIN:DAYLIGHT
TZOFFSETFROM:+0100
TZOFFSETTO:+0200
TZNAME:CEST
DTSTART:20240331T010000
END:DAYLIGHT
BEGIN:STANDARD
TZOFFSETFROM:+0200
TZOFFSETTO:+0100
TZNAME:CET
DTSTART:20241027T010000
END:STANDARD
BEGIN:DAYLIGHT
TZOFFSETFROM:+0100
TZOFFSETTO:+0200
TZNAME:CEST
DTSTART:20250330T010000
END:DAYLIGHT
BEGIN:STANDARD
TZOFFSETFROM:+0200
TZOFFSETTO:+0100
TZNAME:CET
DTSTART:20251026T010000
END:STANDARD
BEGIN:DAYLIGHT
TZOFFSETFROM:+0100
TZOFFSETTO:+0200
TZNAME:CEST
DTSTART:20260329T010000
END:DAYLIGHT
BEGIN:STANDARD
TZOFFSETFROM:+0200
TZOFFSETTO:+0100
TZNAME:CET
DTSTART:20261025T010000
END:STANDARD
END:VTIMEZONE
BEGIN:VEVENT
DTSTART;TZID=Europe/Madrid:20250614T080000
DTEND;TZID=Europe/Madrid:20250615T170000
DTSTAMP:20260425T005337
CREATED:20250128T095502Z
LAST-MODIFIED:20250611T135358Z
UID:3706-1749888000-1750006800@portmataro.org
SUMMARY:Marina Day
DESCRIPTION:🕘 Activitats per horari\nDe 9:00 a 12:00 \nTastets de Rem (Rem Mataró) – Pantala R. Activitat gratuïta \nDe 10:00 a 18:00 \nAventura amb Banana Boat – JetSki Mataró\, Pantala R. Preu: 5 € \nDe 11:00 a 13:00 \nTaller inclusiu amb l’Associació TEA-Asperger Maresme – Terrassa Local 7. Gratuït \nEquilibris sobre taula de surf – Escola de Vela\, Terrassa Local 7. Gratuït \nAnimació infantil amb Xarop de Canya (conta-contes\, tallers\, música) – Plaça de l’Hotel. Gratuït \nA les 11:00\, 12:00 i 13:00 \nVisita al Vell Marí (CRAM) – Reserva prèvia a: reserves@cram.org / 93 10 10 170. Màxim 10 persones/hora. Gratuït \nDe 11:00 a 12:00 \nTaller infantil Blaumar: Els tresors de la platja (5-10 anys) – Platja Central. Gratuït amb reserva prèvia al 639 11 90 93 (inscripcions fins al 13/06) \nDe 11:00 a 13:30 \nPasseig en embarcació Llorito – Matí (Caraalvent). Gratuït \nDe 11:00 a 14:00 \nTall gratuït – SkillsBarber\, Terrassa SkillsBarber. Gratuït \nD’11:00 a 18:00 \nFont d’aigua oberta per a tothom \nDe 16:00 a 18:00 \nPasseig en embarcació Llorito – Tarda (Caraalvent). Gratuït \nA les 18:00 \nActivitat de bombolles de sabó – Plaça de l’Hotel. Gratuït \nPresentació ZONA ZEC Costes del Maresme i Projecte Posidonia 2021 – Oficines del Port de Mataró. Gratuït \nDe 18:00 a 20:00 \nActivitat infantil (4-12 anys) – Escola de Vela\, Plaça de l’Hotel. Gratuït \nTaller de nusos per a totes les edats – Escola de Vela\, Plaça de l’Hotel. Gratuït \nEquilibris sobre taula de surf – Escola de Vela\, Plaça de l’Hotel. Gratuït \nA les 19:00 \nTastet de rom amb Pirata i Aquamarin – Plaça del Pirata. Gratuït \nProjecte Dofins del Maresme (Posidonia 2021) – Oficines del Port de Mataró. Gratuït \nA les 20:00 \nActuació musical The Unicornios Lokos – Posidonia Fest\, Plaça de la Font. Gratuït \nTot el dia \nExposició d’embarcacions – Stilnautic\, Locals 36-37 \nExposició de vaixells\, plaques solars\, tapisseria nàutica i productes de neteja – Aquamarin\, Plaça del Pirata \n\n🍽️ Propostes gastronòmiques\nRacó del Port: Menú especial – 36 € \nPasapalos: Degustació de còctels i batuts \nVenezia: Fideuà de marisc – 4\,50 € / plat \nDolce Vita: Spaghetti a la marinera (novetat de carta) – 11\,50 € \nMilbana: Mojitos d’estiu amb i sense alcohol – 5 € \nToni3: Menú especial – 30 € \nYogurismo: Gelat especial Dubai – 3\,50 € \n\n🎁 Sortejos i premis\nDe 10:00 a 14:00 \nCaralvent: Ruleta amb premis – Local 38 \nPremis destacats \nRacó del Port: Dinar o sopar per a dues persones \nPasapalos: Vermut per a dues persones \nVenezia: Sopar per a dues persones \nDolce Vita: 2×1 en pizzes per emportar i menú de migdia \nMilbana: 2 vals de 15 € \nToni3: Sopar per a 2 persones valorat en 150 € \nHotel Atenea Port: Menú per a dues persones \nCaralvent: 3 vals 2×1 per al curs de Llicència de Navegació \nBlaumar: 2×1 en bateig subaquàtic \nEscola de Vela: Sortida en caiac per a 2 persones + sortida en paddle per a 2 persones \nRealitat Virtual: 5 vals 2×1 \nJetSki Mataró: 5 vals per a activitat d’1h amb motos d’aigua \nVarador Escar Mataró: Tractament antifouling valorat en 1.500 €
URL:https://portmataro.org/event/marina-day-2/
END:VEVENT
END:VCALENDAR