BEGIN:VCALENDAR
VERSION:2.0
PRODID:-//Port de Mataró - ECPv6.15.20//NONSGML v1.0//EN
CALSCALE:GREGORIAN
METHOD:PUBLISH
X-WR-CALNAME:Port de Mataró
X-ORIGINAL-URL:https://portmataro.org
X-WR-CALDESC:Esdeveniments per Port de Mataró
REFRESH-INTERVAL;VALUE=DURATION:PT1H
X-Robots-Tag:noindex
X-PUBLISHED-TTL:PT1H
BEGIN:VTIMEZONE
TZID:Europe/Madrid
BEGIN:DAYLIGHT
TZOFFSETFROM:+0100
TZOFFSETTO:+0200
TZNAME:CEST
DTSTART:20240331T010000
END:DAYLIGHT
BEGIN:STANDARD
TZOFFSETFROM:+0200
TZOFFSETTO:+0100
TZNAME:CET
DTSTART:20241027T010000
END:STANDARD
BEGIN:DAYLIGHT
TZOFFSETFROM:+0100
TZOFFSETTO:+0200
TZNAME:CEST
DTSTART:20250330T010000
END:DAYLIGHT
BEGIN:STANDARD
TZOFFSETFROM:+0200
TZOFFSETTO:+0100
TZNAME:CET
DTSTART:20251026T010000
END:STANDARD
BEGIN:DAYLIGHT
TZOFFSETFROM:+0100
TZOFFSETTO:+0200
TZNAME:CEST
DTSTART:20260329T010000
END:DAYLIGHT
BEGIN:STANDARD
TZOFFSETFROM:+0200
TZOFFSETTO:+0100
TZNAME:CET
DTSTART:20261025T010000
END:STANDARD
END:VTIMEZONE
BEGIN:VEVENT
DTSTART;TZID=Europe/Madrid:20250827T080000
DTEND;TZID=Europe/Madrid:20250828T170000
DTSTAMP:20260424T181330
CREATED:20250128T095557Z
LAST-MODIFIED:20251001T142526Z
UID:3710-1756281600-1756400400@portmataro.org
SUMMARY:Posidonia Fest 2025
DESCRIPTION:El proper mes de setembre el Posidònia Fest celebrarà la seva cinquena edició amb una programació de primer nivell. Manu Guix i Alfred García seran els grans protagonistes d’un festival que tornarà a omplir el Port de Mataró i diversos espais de la ciutat\, com La Presó\, l’Ateneu Centre Cultural i la plaça de Santa Maria\, amb música en directe. \nDivendres\, Manu Guix oferirà un concert íntim i proper\, només amb un piano i el mar com a teló de fons. Dissabte\, Alfred García tancarà el festival amb un dels pocs concerts en solitari de la seva gira T’estimo es te quiero\, posant emoció i energia al comiat d’aquesta edició. \nEl cartell d’enguany també comptarà amb noms destacats com Meritxell Neddermann\, el grup Libérica\, Júlia Aubà\, el duet Ölivias i Maria Canet. Una proposta diversa i accessible que aposta per apropar la música a tothom\, amb iniciatives com l’obra visual en directe del fotògraf Enric Lucena o la traducció en llengua de signes en algunes actuacions.
URL:https://portmataro.org/event/posidonia-fest/
ATTACH;FMTTYPE=image/png:https://portmataro.org/wp-content/uploads/2025/01/Captura-de-pantalla-2025-10-01-a-les-16.08.59.png
END:VEVENT
END:VCALENDAR