BEGIN:VCALENDAR
VERSION:2.0
PRODID:-//Port de Mataró - ECPv6.15.20//NONSGML v1.0//EN
CALSCALE:GREGORIAN
METHOD:PUBLISH
X-WR-CALNAME:Port de Mataró
X-ORIGINAL-URL:https://portmataro.org
X-WR-CALDESC:Esdeveniments per Port de Mataró
REFRESH-INTERVAL;VALUE=DURATION:PT1H
X-Robots-Tag:noindex
X-PUBLISHED-TTL:PT1H
BEGIN:VTIMEZONE
TZID:Europe/Madrid
BEGIN:DAYLIGHT
TZOFFSETFROM:+0100
TZOFFSETTO:+0200
TZNAME:CEST
DTSTART:20240331T010000
END:DAYLIGHT
BEGIN:STANDARD
TZOFFSETFROM:+0200
TZOFFSETTO:+0100
TZNAME:CET
DTSTART:20241027T010000
END:STANDARD
BEGIN:DAYLIGHT
TZOFFSETFROM:+0100
TZOFFSETTO:+0200
TZNAME:CEST
DTSTART:20250330T010000
END:DAYLIGHT
BEGIN:STANDARD
TZOFFSETFROM:+0200
TZOFFSETTO:+0100
TZNAME:CET
DTSTART:20251026T010000
END:STANDARD
BEGIN:DAYLIGHT
TZOFFSETFROM:+0100
TZOFFSETTO:+0200
TZNAME:CEST
DTSTART:20260329T010000
END:DAYLIGHT
BEGIN:STANDARD
TZOFFSETFROM:+0200
TZOFFSETTO:+0100
TZNAME:CET
DTSTART:20261025T010000
END:STANDARD
END:VTIMEZONE
BEGIN:VEVENT
DTSTART;VALUE=DATE:20250920
DTEND;VALUE=DATE:20250921
DTSTAMP:20260424T124903
CREATED:20251002T000104Z
LAST-MODIFIED:20251002T000104Z
UID:4849-1758326400-1758412799@portmataro.org
SUMMARY:Campionat de Catalunya de Pesca Marina per Equips
DESCRIPTION:El dissabte 20 de setembre el Port de Mataró serà l’escenari del Campionat de Catalunya de Pesca Marina per Equips\, una cita esportiva organitzada per la Federació Catalana d’Activitats Subaquàtiques (FECDAS). \nLa competició reunirà els millors equips del país en una jornada plena d’emoció\, estratègia i passió pel mar. Les persones assistents podran viure de prop l’ambient d’aquest campionat i gaudir de l’activitat al front marítim de Mataró. \nUna ocasió única per descobrir de primera mà l’esport de la pesca marina i el seu paper dins el calendari esportiu català.
URL:https://portmataro.org/event/campionat-de-catalunya-de-pesca-marina-per-equips/
ATTACH;FMTTYPE=image/png:https://portmataro.org/wp-content/uploads/2025/10/Captura-de-pantalla-2025-10-02-a-les-1.56.35.png
END:VEVENT
BEGIN:VEVENT
DTSTART;TZID=Europe/Madrid:20250920T090000
DTEND;TZID=Europe/Madrid:20250920T230000
DTSTAMP:20260424T124903
CREATED:20251001T142227Z
LAST-MODIFIED:20251001T142227Z
UID:4776-1758358800-1758409200@portmataro.org
SUMMARY:Dia de la Rumba
DESCRIPTION:El dissabte 20 de setembre el Port de Mataró s’omplirà de ritme i alegria amb la primera edició del Dia de la Rumba\, una jornada dedicada a recordar la figura i l’herència musical de Peret\, mataroní considerat el pare de la rumba catalana. \nDurant la tarda\, el públic podrà gaudir d’un ambient festiu amb música en directe\, guitarres i palmes que faran ballar a tothom. L’esdeveniment comptarà amb músics i formacions locals que interpretaran temes clàssics i transmetran tota l’essència d’aquest gènere popular. \nEl Dia de la Rumba és una cita per viure la música i la tradició en un entorn únic davant del mar\, reforçant el paper del Port de Mataró com a espai obert a la cultura i a la ciutadania.
URL:https://portmataro.org/event/dia-de-la-rumba/
ATTACH;FMTTYPE=image/png:https://portmataro.org/wp-content/uploads/2025/10/Captura-de-pantalla-2025-10-01-a-les-16.21.34.png
END:VEVENT
END:VCALENDAR