BEGIN:VCALENDAR
VERSION:2.0
PRODID:-//Port de Mataró - ECPv6.15.20//NONSGML v1.0//EN
CALSCALE:GREGORIAN
METHOD:PUBLISH
X-WR-CALNAME:Port de Mataró
X-ORIGINAL-URL:https://portmataro.org
X-WR-CALDESC:Esdeveniments per Port de Mataró
REFRESH-INTERVAL;VALUE=DURATION:PT1H
X-Robots-Tag:noindex
X-PUBLISHED-TTL:PT1H
BEGIN:VTIMEZONE
TZID:Europe/Madrid
BEGIN:DAYLIGHT
TZOFFSETFROM:+0100
TZOFFSETTO:+0200
TZNAME:CEST
DTSTART:20240331T010000
END:DAYLIGHT
BEGIN:STANDARD
TZOFFSETFROM:+0200
TZOFFSETTO:+0100
TZNAME:CET
DTSTART:20241027T010000
END:STANDARD
BEGIN:DAYLIGHT
TZOFFSETFROM:+0100
TZOFFSETTO:+0200
TZNAME:CEST
DTSTART:20250330T010000
END:DAYLIGHT
BEGIN:STANDARD
TZOFFSETFROM:+0200
TZOFFSETTO:+0100
TZNAME:CET
DTSTART:20251026T010000
END:STANDARD
BEGIN:DAYLIGHT
TZOFFSETFROM:+0100
TZOFFSETTO:+0200
TZNAME:CEST
DTSTART:20260329T010000
END:DAYLIGHT
BEGIN:STANDARD
TZOFFSETFROM:+0200
TZOFFSETTO:+0100
TZNAME:CET
DTSTART:20261025T010000
END:STANDARD
END:VTIMEZONE
BEGIN:VEVENT
DTSTART;TZID=Europe/Madrid:20251004T100000
DTEND;TZID=Europe/Madrid:20251004T140000
DTSTAMP:20260424T104840
CREATED:20251001T132803Z
LAST-MODIFIED:20251001T133009Z
UID:4742-1759572000-1759586400@portmataro.org
SUMMARY:Festa de la Posidònia
DESCRIPTION:La Festa de la Posidònia torna al Pantalà K del Port de Mataró amb activitats per a totes les edats que celebren el nostre tresor mediterrani: la Posidònia oceànica. \n\nDe 10 a 13 h – Espectacle i animació amb la companyia Xarop de Canya (10h–13h)\nDe 10.30 a 11.30 h – Coneix les aus marines del Port. Visita diferents zones del port acompanyat de l’ornitòleg Enric Badosa i descobreix els corbs marins i altres espècies amb presència habitual al Port.\nDe 10.30 a 12.30 h – Pinta la Posidònia. Ajuda a l’Elisenda\, la nostra bióloga/il.lustradora a crear una obra en directe i fes la teva propia versió al seu costat.\nA les 10.30 h\, 11.15 h i 12 h – Visita al Vell Marí. Puja a bord del vaixell científic del CRAM i coneix la seva història\, com navegar i com fer albiraments de dofins i balenes.\nDe 12 a 12.40 h – Taller de Nusos. Coneix i aprèn a fer els nusos més utilitzats per navegar.\nDe 13.30 a 14 h – Exhibició i pràctica de Salvament Marítim. Com a final de festa podrem gaudir desde l’espigó d’un exercici de rescat a l’exterior del port a càrrec de Salvament Marítim de Barcelona\n\nTotes les activitats són gratuïtes\, però cal fer inscripció prèvia al correu: info@posidonia2021.org.
URL:https://portmataro.org/event/festa-de-la-posidonia/
ATTACH;FMTTYPE=image/png:https://portmataro.org/wp-content/uploads/2025/10/Captura-de-pantalla-2025-10-01-a-les-15.28.52.png
ORGANIZER;CN="Posid%C3%B2nia 2021":MAILTO:info@posidonia2021.org
END:VEVENT
END:VCALENDAR