BEGIN:VCALENDAR
VERSION:2.0
PRODID:-//Port de Mataró - ECPv6.15.20//NONSGML v1.0//EN
CALSCALE:GREGORIAN
METHOD:PUBLISH
X-WR-CALNAME:Port de Mataró
X-ORIGINAL-URL:https://portmataro.org
X-WR-CALDESC:Esdeveniments per Port de Mataró
REFRESH-INTERVAL;VALUE=DURATION:PT1H
X-Robots-Tag:noindex
X-PUBLISHED-TTL:PT1H
BEGIN:VTIMEZONE
TZID:Europe/Madrid
BEGIN:DAYLIGHT
TZOFFSETFROM:+0100
TZOFFSETTO:+0200
TZNAME:CEST
DTSTART:20240331T010000
END:DAYLIGHT
BEGIN:STANDARD
TZOFFSETFROM:+0200
TZOFFSETTO:+0100
TZNAME:CET
DTSTART:20241027T010000
END:STANDARD
BEGIN:DAYLIGHT
TZOFFSETFROM:+0100
TZOFFSETTO:+0200
TZNAME:CEST
DTSTART:20250330T010000
END:DAYLIGHT
BEGIN:STANDARD
TZOFFSETFROM:+0200
TZOFFSETTO:+0100
TZNAME:CET
DTSTART:20251026T010000
END:STANDARD
BEGIN:DAYLIGHT
TZOFFSETFROM:+0100
TZOFFSETTO:+0200
TZNAME:CEST
DTSTART:20260329T010000
END:DAYLIGHT
BEGIN:STANDARD
TZOFFSETFROM:+0200
TZOFFSETTO:+0100
TZNAME:CET
DTSTART:20261025T010000
END:STANDARD
END:VTIMEZONE
BEGIN:VEVENT
DTSTART;TZID=Europe/Madrid:20251123T080000
DTEND;TZID=Europe/Madrid:20251123T233000
DTSTAMP:20260422T160338
CREATED:20251107T140012Z
LAST-MODIFIED:20251107T144347Z
UID:5063-1763884800-1763940600@portmataro.org
SUMMARY:Diumenge de Salsa
DESCRIPTION:El diumenge 23 d’octubre el Port de Mataró es convertirà en una gran pista de ball amb una nova edició del Diumenge de Salsa. En aquesta ocasió\, l’activitat estarà dedicada a la salsa\, de la mà de Bailanama Escuela\, que faran moure l’esquelet a totes les persones assistents. \nLa jornada convida a gaudir d’una tarda diferent\, plena de música i ritme\, en un entorn privilegiat davant del mar. Una proposta oberta a tothom\, ideal tant per a qui ja domina els passos de salsa com per a aquells que vulguin deixar-se portar i aprendre envoltats de bon ambient. \nEl Diumenge de Salsa és una manera única d’acabar el mes amb energia i diversió\, reforçant el paper del Port de Mataró com a punt de trobada per a activitats culturals i socials que connecten amb la gent del territori.
URL:https://portmataro.org/event/diumenge-de-salsa/
END:VEVENT
END:VCALENDAR