BEGIN:VCALENDAR
VERSION:2.0
PRODID:-//Port de Mataró - ECPv6.15.20//NONSGML v1.0//EN
CALSCALE:GREGORIAN
METHOD:PUBLISH
X-WR-CALNAME:Port de Mataró
X-ORIGINAL-URL:https://portmataro.org
X-WR-CALDESC:Esdeveniments per Port de Mataró
REFRESH-INTERVAL;VALUE=DURATION:PT1H
X-Robots-Tag:noindex
X-PUBLISHED-TTL:PT1H
BEGIN:VTIMEZONE
TZID:Europe/Madrid
BEGIN:DAYLIGHT
TZOFFSETFROM:+0100
TZOFFSETTO:+0200
TZNAME:CEST
DTSTART:20250330T010000
END:DAYLIGHT
BEGIN:STANDARD
TZOFFSETFROM:+0200
TZOFFSETTO:+0100
TZNAME:CET
DTSTART:20251026T010000
END:STANDARD
BEGIN:DAYLIGHT
TZOFFSETFROM:+0100
TZOFFSETTO:+0200
TZNAME:CEST
DTSTART:20260329T010000
END:DAYLIGHT
BEGIN:STANDARD
TZOFFSETFROM:+0200
TZOFFSETTO:+0100
TZNAME:CET
DTSTART:20261025T010000
END:STANDARD
BEGIN:DAYLIGHT
TZOFFSETFROM:+0100
TZOFFSETTO:+0200
TZNAME:CEST
DTSTART:20270328T010000
END:DAYLIGHT
BEGIN:STANDARD
TZOFFSETFROM:+0200
TZOFFSETTO:+0100
TZNAME:CET
DTSTART:20271031T010000
END:STANDARD
END:VTIMEZONE
BEGIN:VEVENT
DTSTART;TZID=Europe/Madrid:20260310T100000
DTEND;TZID=Europe/Madrid:20260310T183000
DTSTAMP:20260422T130646
CREATED:20260308T085150Z
LAST-MODIFIED:20260308T091303Z
UID:5245-1773136800-1773167400@portmataro.org
SUMMARY:Seminari màrqueting i vendes en el sector nàutic
DESCRIPTION:Forma’t en el programa d’estratègies per a respondre a un mercat en transformació pel sector nàutic\, dissenyat des del CLUSTER NAUTIC CATALÀ. \n\nCom captar\, convèncer i fidelitzar clients en un mercat més digital\, exigent i competitiu. Un seminari pràctic per a empreses nàutiques que volen millorar la seva gestió comercial\, el màrqueting i la presa de decisions amb l’ajuda de les noves tecnologies i la IA.\nLa TRANSFORMACIÓ DIGITAL I LA INTELIGENCIA ARTIFICIAL estan transformant la forma en que gestionem els nostres processos empresarials.\nDescobreix com millorar la gestió\, el màrqueting i la competitivitat de la teva empresa nàutica.\nParticipar en aquest seminari permetrà a les empreses posar-se al dia i aprofitar les noves eines disponibles per a la gestió empresarial.\nEl programa combina sessions teòriques breus al matí\, sessió de networking per intercanviar experiències amb altres professionals del sector durant el dinar al migdia i sessions pràctiques a la tarda\, i per això recomanem portar el vostre ordinador.
URL:https://portmataro.org/event/seminari-mrqueting/
ATTACH;FMTTYPE=image/jpeg:https://portmataro.org/wp-content/uploads/2026/03/SEMINARI_IA_MKT_I_VENDES_Mar_2026.pdf.jpg
END:VEVENT
BEGIN:VEVENT
DTSTART;TZID=Europe/Madrid:20260315T090000
DTEND;TZID=Europe/Madrid:20260315T190000
DTSTAMP:20260422T130646
CREATED:20260308T092913Z
LAST-MODIFIED:20260308T092913Z
UID:5250-1773565200-1773601200@portmataro.org
SUMMARY:Diada castellera amb els Capgrossos de Mataró
DESCRIPTION:El 15 de març\, el Port de Mataró acull el Mega Taller\, una jornada festiva i participativa plena d’activitats per a totes les edats que culminarà amb la Diada Castellera de Colles Padrines. \nLa jornada començarà al matí amb activitats esportives obertes al públic\, com un taller de rem amb Rem Mataró i una sessió de running amb Ritme Òptim. A continuació\, els més petits podran gaudir d’un concert infantil amb Pol Nord i d’un megataller creatiu pensat per a tota la canalla. \nAl migdia tindrà lloc la inauguració de l’exposició dels 30 anys dels Capgrossos de Mataró\, seguida de l’actuació castellera amb les colles convidades Xics de Granollers i Castellers de Barcelona\, en una diada que promet emoció i tradició a peu de mar. \nLa festa continuarà amb un dinar de germanor per compartir un gran ambient casteller i comunitari al port. Una oportunitat perfecta per gaudir de la cultura popular\, l’esport i la música en un entorn únic del litoral del Maresme.
URL:https://portmataro.org/event/diada-castellera-amb-els-capgrossos-de-mataro/
ATTACH;FMTTYPE=image/jpeg:https://portmataro.org/wp-content/uploads/2026/03/Mega-Taller-TV.jpg-scaled.jpeg
END:VEVENT
BEGIN:VEVENT
DTSTART;TZID=Europe/Madrid:20260319T150000
DTEND;TZID=Europe/Madrid:20260319T170000
DTSTAMP:20260422T130646
CREATED:20260313T145029Z
LAST-MODIFIED:20260405T085611Z
UID:5263-1773932400-1773939600@portmataro.org
SUMMARY:Jornada 3D construcció: transformar el sector amb impressió 3D
DESCRIPTION:El sector nàutic està experimentant una transformació rellevant impulsada per la innovació tecnològica\, la sostenibilitat i la necessitat de solucions industrials més flexibles i avançades. En aquest context\, la indústria auxiliar disposa d’una finestra d’oportunitat clara per posicionar-se com a proveïdor clau\, especialment mitjançant tecnologies com la impressió 3D i la fabricació avançada.\nAquesta jornada vol oferir una visió estratègica i pràctica sobre les oportunitats reals que el sector nàutic genera per a empreses industrials\, combinant anàlisi de mercat\, capacitats tecnològiques i experiències empresarials concretes. \nInscriu-te ara!
URL:https://portmataro.org/event/jornada-3d-construccio-transformar-el-sector-amb-impressio-3d/
ATTACH;FMTTYPE=image/jpeg:https://portmataro.org/wp-content/uploads/2026/03/Diseno-sin-titulo-3.jpg
END:VEVENT
BEGIN:VEVENT
DTSTART;TZID=Europe/Madrid:20260404T230000
DTEND;TZID=Europe/Madrid:20260404T230000
DTSTAMP:20260422T130646
CREATED:20260404T103512Z
LAST-MODIFIED:20260405T085205Z
UID:5279-1775343600-1775343600@portmataro.org
SUMMARY:Dj Strada a la terrassa del Karaoke Sinatra
DESCRIPTION:Vine amb els teus amics o fes-ne de nous a la pista… però no et quedis sense veu abans d’hora! \nGaudeix d’una jornada especial amb el DJ Strada en directe a la terrassa del Karaoke Sinatra.\nPrepara’t per una nit carregada de temassos\, energia i molt bon ambient: cantaràs\, ballaràs… i potser acabaràs sent la estrella de la nit. T’hi esperem.
URL:https://portmataro.org/event/dj-strada-a-la-terrassa-del-karaoke-sinatra/
ATTACH;FMTTYPE=image/jpeg:https://portmataro.org/wp-content/uploads/2026/04/Diseno-sin-titulo-2.jpg
END:VEVENT
BEGIN:VEVENT
DTSTART;TZID=Europe/Madrid:20260411T100000
DTEND;TZID=Europe/Madrid:20260411T110000
DTSTAMP:20260422T130646
CREATED:20260404T105017Z
LAST-MODIFIED:20260404T105527Z
UID:5283-1775901600-1775905200@portmataro.org
SUMMARY:Entrenament funcional by Alexis Herráiz
DESCRIPTION:Arriba una sessió d’entrenament funcional exclusiva! \nDe la mà de Alexis Herráiz\, entrenador i CEO de Gimnàs Naos. \nUna oportunitat única per entrenar amb qui lidera el projecte\, aprendre tècnica\, superar límits i sentir l’energia d’un entrenament realment potent. \nVine a viure l’experiència Naos al Port de Mataró!
URL:https://portmataro.org/event/entrenament-funcional-by-alexis-herraiz/
ATTACH;FMTTYPE=image/jpeg:https://portmataro.org/wp-content/uploads/2026/04/Naos-Mockup1-e1775300070667.jpg
END:VEVENT
BEGIN:VEVENT
DTSTART;TZID=Europe/Madrid:20260411T120000
DTEND;TZID=Europe/Madrid:20260411T130000
DTSTAMP:20260422T130646
CREATED:20260405T084826Z
LAST-MODIFIED:20260405T084904Z
UID:5289-1775908800-1775912400@portmataro.org
SUMMARY:Presentació del Posidònia Fest
DESCRIPTION:Ens plau convidar-vos a la presentació de l’edició d’enguany\, que tindrà lloc el proper 11 d’abril a les 12.00 h a l’escenari situat al costat de la font lúdica del Port de Mataró. \nSerà una bona oportunitat per conèixer de primera mà les novetats del festival i compartir aquest moment amb tots vosaltres. \nA més\, l’acte comptarà amb un concert gratuït de la mà de Maria Lamata\, que posarà banda sonora a la jornada. \nT’hi esperem!
URL:https://portmataro.org/event/presentacio-del-posidonia-fest/
ATTACH;FMTTYPE=image/jpeg:https://portmataro.org/wp-content/uploads/2026/04/Diseno-sin-titulo-1.jpg
END:VEVENT
BEGIN:VEVENT
DTSTART;TZID=Europe/Madrid:20260418T110000
DTEND;TZID=Europe/Madrid:20260418T140000
DTSTAMP:20260422T130646
CREATED:20260412T092116Z
LAST-MODIFIED:20260412T093243Z
UID:5307-1776510000-1776520800@portmataro.org
SUMMARY:Fira d'abril
DESCRIPTION:Vine a gaudir de l’ambient\, la música i el sabor del sud en un entorn únic davant del mar. T’esperem el proper 18 d’abril a la zona de l’escenari situat davant de la font lúdica del Port de Mataró.
URL:https://portmataro.org/event/fira-abril/
ATTACH;FMTTYPE=image/jpeg:https://portmataro.org/wp-content/uploads/2026/04/Agenda-activitats-web-3.jpg
END:VEVENT
BEGIN:VEVENT
DTSTART;TZID=Europe/Madrid:20260418T230000
DTEND;TZID=Europe/Madrid:20260419T023000
DTSTAMP:20260422T130646
CREATED:20260412T090944Z
LAST-MODIFIED:20260412T090944Z
UID:5305-1776553200-1776565800@portmataro.org
SUMMARY:Dj Strada a la terrassa del Karaoke Sinatra
DESCRIPTION:Vine amb els teus amics o fes-ne de nous a la pista… però no et quedis sense veu abans d’hora! \nGaudeix d’una jornada especial amb el DJ Strada en directe a la terrassa del Karaoke Sinatra.\nPrepara’t per una nit carregada de temassos\, energia i molt bon ambient: cantaràs\, ballaràs… i potser acabaràs sent la estrella de la nit. T’hi esperem.
URL:https://portmataro.org/event/dj-strada-a-la-terrassa-del-karaoke-sinatra-2/
ATTACH;FMTTYPE=image/jpeg:https://portmataro.org/wp-content/uploads/2026/04/Diseno-sin-titulo-2.jpg
END:VEVENT
BEGIN:VEVENT
DTSTART;TZID=Europe/Madrid:20260419T120000
DTEND;TZID=Europe/Madrid:20260419T140000
DTSTAMP:20260422T130646
CREATED:20260412T093014Z
LAST-MODIFIED:20260412T093116Z
UID:5310-1776600000-1776607200@portmataro.org
SUMMARY:Diumenges amb salsa
DESCRIPTION:El proper diumenge 19 d’abril vine a ballar salsa i bachata. De la mà de l’escola Bailanamá\, t’esperem a l’escenari situat davant de la plaça de la font lúdica del Port de Mataró\, de 12:00 h a 14:00 h. \nNo t’ho perdis\, t’hi esperem!
URL:https://portmataro.org/event/diumenges-amb-salsa-2/
ATTACH;FMTTYPE=image/jpeg:https://portmataro.org/wp-content/uploads/2026/03/Diseno-sin-titulo-4.jpg
END:VEVENT
BEGIN:VEVENT
DTSTART;TZID=Europe/Madrid:20260423T160000
DTEND;TZID=Europe/Madrid:20260423T180000
DTSTAMP:20260422T130646
CREATED:20260412T100257Z
LAST-MODIFIED:20260412T100257Z
UID:5315-1776960000-1776967200@portmataro.org
SUMMARY:Un Sant Jordi per a tothom
DESCRIPTION:Un Sant Jordi inclusiu transforma la festa tradicional en un espai de trobada\, creativitat i cultura per a tothom\, on cada persona pot gaudir dels llibres\, les roses i la llegenda del drac en un entorn accessible i acollidor. Vine a la presentació del poema il·lustrat titulat: Ser dona al S.XXI de l’autora Isabel Suárez amb les il·lustracions de Natalia Elefante. \nUn poemari que ofereix una mirada sensible sobre la realitat de les dones en l’actualitat\, i que s’integra dins d’un programa de conversa sobre llibres\, on Suárez explora les experiències i els desafiaments que les dones han viscut al llarg del segle XX i fins avui. T’hi esperem!
URL:https://portmataro.org/event/un-sant-jordi-per-a-tothom/
ATTACH;FMTTYPE=image/jpeg:https://portmataro.org/wp-content/uploads/2026/04/Agenda-activitats-web-5.jpg
END:VEVENT
BEGIN:VEVENT
DTSTART;TZID=Europe/Madrid:20260425T110000
DTEND;TZID=Europe/Madrid:20260425T210000
DTSTAMP:20260422T130646
CREATED:20260412T105036Z
LAST-MODIFIED:20260412T105036Z
UID:5322-1777114800-1777150800@portmataro.org
SUMMARY:Market Stories Pop Up edició primavera
DESCRIPTION:El mateix cap de setmana del 25 i 26 d’abril\, el Port es convertirà en un espai d’experiències amb el Market Stories Pop-Up. \nDe les 11 h a les 21 h el dissabte 25 i de les 11 h a les 19 h el diumenge 26\, hi trobaràs marques locals\, gastronomia i activitats en un entorn privilegiat com és el Port de Mataró. \nVine i gaudeix del batec del port!
URL:https://portmataro.org/event/market-stories-pop-up-edicio-primavera/
ATTACH;FMTTYPE=image/jpeg:https://portmataro.org/wp-content/uploads/2026/04/MARKET-POP-UP-25.4.26.jpg
END:VEVENT
BEGIN:VEVENT
DTSTART;TZID=Europe/Madrid:20260425T120000
DTEND;TZID=Europe/Madrid:20260425T140000
DTSTAMP:20260422T130646
CREATED:20260412T102031Z
LAST-MODIFIED:20260412T102031Z
UID:5319-1777118400-1777125600@portmataro.org
SUMMARY:El vermut de Flaix Bac amb Llucià Ferrer
DESCRIPTION:El Vermut de Flaixbac amb Llucià Ferrer arriba al Port de Mataró per fer-te gaudir d’un migdia diferent. Música\, humor i entrevistes a celebrities en clau de vermut. Un format d’entreteniment ideal pel cap de setmana. Bon ambient\, música i la millor companyia davant del mar. T’hi esperem!
URL:https://portmataro.org/event/el-vermut-de-flaix-bac-amb-llucia-ferrer/
ATTACH;FMTTYPE=image/jpeg:https://portmataro.org/wp-content/uploads/2026/04/Agenda-activitats-web.jpg
END:VEVENT
BEGIN:VEVENT
DTSTART;TZID=Europe/Madrid:20260426T090000
DTEND;TZID=Europe/Madrid:20260426T113000
DTSTAMP:20260422T130646
CREATED:20260413T070716Z
LAST-MODIFIED:20260413T071007Z
UID:5329-1777194000-1777203000@portmataro.org
SUMMARY:Triatló ciutat de Mataró
DESCRIPTION:Amb Mataró com a teló de fons\, els participants tindran l’oportunitat de gaudir d’un escenari únic en la temporada de triatló\, amb expectatives de condicions climàtiques ideals i una emocionant carrera a la ciutat.
URL:https://portmataro.org/event/triatlo-ciutat-de-mataro/
ATTACH;FMTTYPE=image/jpeg:https://portmataro.org/wp-content/uploads/2026/04/Agenda-activitats-web-1.jpg
END:VEVENT
BEGIN:VEVENT
DTSTART;TZID=Europe/Madrid:20260426T113000
DTEND;TZID=Europe/Madrid:20260426T140000
DTSTAMP:20260422T130646
CREATED:20260412T105436Z
LAST-MODIFIED:20260412T105436Z
UID:5327-1777203000-1777212000@portmataro.org
SUMMARY:Diumenges amb ritme
DESCRIPTION:El diumenge 26 d’abril. Mou el cos a ritme de Swing de la mà de l’escola Swing Maresme. T’esperem d’11:30 h-14:00 h davant de la zona de la font lúdica del Port.
URL:https://portmataro.org/event/diumenges-amb-ritme-2/
ATTACH;FMTTYPE=image/jpeg:https://portmataro.org/wp-content/uploads/2026/03/maresmetropical_swing-1100x650-1.jpg
END:VEVENT
END:VCALENDAR