BEGIN:VCALENDAR
VERSION:2.0
PRODID:-//Port de Mataró - ECPv6.15.20//NONSGML v1.0//EN
CALSCALE:GREGORIAN
METHOD:PUBLISH
X-WR-CALNAME:Port de Mataró
X-ORIGINAL-URL:https://portmataro.org
X-WR-CALDESC:Esdeveniments per Port de Mataró
REFRESH-INTERVAL;VALUE=DURATION:PT1H
X-Robots-Tag:noindex
X-PUBLISHED-TTL:PT1H
BEGIN:VTIMEZONE
TZID:Europe/Madrid
BEGIN:DAYLIGHT
TZOFFSETFROM:+0100
TZOFFSETTO:+0200
TZNAME:CEST
DTSTART:20240331T010000
END:DAYLIGHT
BEGIN:STANDARD
TZOFFSETFROM:+0200
TZOFFSETTO:+0100
TZNAME:CET
DTSTART:20241027T010000
END:STANDARD
BEGIN:DAYLIGHT
TZOFFSETFROM:+0100
TZOFFSETTO:+0200
TZNAME:CEST
DTSTART:20250330T010000
END:DAYLIGHT
BEGIN:STANDARD
TZOFFSETFROM:+0200
TZOFFSETTO:+0100
TZNAME:CET
DTSTART:20251026T010000
END:STANDARD
BEGIN:DAYLIGHT
TZOFFSETFROM:+0100
TZOFFSETTO:+0200
TZNAME:CEST
DTSTART:20260329T010000
END:DAYLIGHT
BEGIN:STANDARD
TZOFFSETFROM:+0200
TZOFFSETTO:+0100
TZNAME:CET
DTSTART:20261025T010000
END:STANDARD
END:VTIMEZONE
BEGIN:VEVENT
DTSTART;TZID=Europe/Madrid:20250406T090000
DTEND;TZID=Europe/Madrid:20250406T140000
DTSTAMP:20260425T061631
CREATED:20251001T232359Z
LAST-MODIFIED:20251001T232514Z
UID:4820-1743930000-1743948000@portmataro.org
SUMMARY:Trobada de les Escoletes de Bàsquet
DESCRIPTION:El 6 d’abril\, des de l’equip de Mataró amb la Federació Catalana de Basquetbol (FCBQ)\, s’organitza organitzar una nova edició de la Trobada d’Escoletes al Port de Mataró. \nBàsquet\, il·lusió i bon ambient en un entorn privilegiat\, compartint una jornada especial amb els més petits i petites.
URL:https://portmataro.org/event/trobada-de-les-escoletes-de-basquet/
ATTACH;FMTTYPE=image/png:https://portmataro.org/wp-content/uploads/2025/10/Captura-de-pantalla-2025-10-02-a-les-1.24.53.png
END:VEVENT
BEGIN:VEVENT
DTSTART;VALUE=DATE:20250413
DTEND;VALUE=DATE:20250414
DTSTAMP:20260425T061631
CREATED:20250128T095147Z
LAST-MODIFIED:20251001T233140Z
UID:3702-1744502400-1744588799@portmataro.org
SUMMARY:Campionat de Fotografia Submarina – Trofeu Josep Sabater
DESCRIPTION:Aquest diumenge 13 d’abril\, el Port de Mataró es converteix en l’epicentre de la fotografia submarina de Catalunya amb la celebració del Campionat de Catalunya de Fotografia Submarina – II Trofeu Josep Sabater. L’esdeveniment està organitzat per l’SPAS (Societat de Pesca i Activitats Subaquàtiques) i reunirà especialistes d’arreu del territori per captar la riquesa del fons marí del litoral mataroní. \nA través de l’objectiu de les càmeres\, els i les participants buscaran retratar la biodiversitat marina de la zona\, en una competició que combina tècnica\, sensibilitat artística i coneixement del medi. Més enllà del vessant esportiu\, el campionat vol conscienciar sobre la importància de protegir els ecosistemes submarins i posar en valor la fauna i flora que s’hi amaguen.
URL:https://portmataro.org/event/trobada-escoletes-de-basquet/
ATTACH;FMTTYPE=image/png:https://portmataro.org/wp-content/uploads/2025/01/Captura-de-pantalla-2025-10-02-a-les-1.28.44.png
END:VEVENT
BEGIN:VEVENT
DTSTART;TZID=Europe/Madrid:20250426T080000
DTEND;TZID=Europe/Madrid:20250427T170000
DTSTAMP:20260425T061631
CREATED:20250128T095310Z
LAST-MODIFIED:20250128T095310Z
UID:3704-1745654400-1745773200@portmataro.org
SUMMARY:Fira custom vehicle d'ocasió
DESCRIPTION:
URL:https://portmataro.org/event/fira-custom-vehicle-docasio/
END:VEVENT
END:VCALENDAR