BEGIN:VCALENDAR
VERSION:2.0
PRODID:-//Port de Mataró - ECPv6.15.20//NONSGML v1.0//EN
CALSCALE:GREGORIAN
METHOD:PUBLISH
X-WR-CALNAME:Port de Mataró
X-ORIGINAL-URL:https://portmataro.org
X-WR-CALDESC:Esdeveniments per Port de Mataró
REFRESH-INTERVAL;VALUE=DURATION:PT1H
X-Robots-Tag:noindex
X-PUBLISHED-TTL:PT1H
BEGIN:VTIMEZONE
TZID:Europe/Madrid
BEGIN:DAYLIGHT
TZOFFSETFROM:+0100
TZOFFSETTO:+0200
TZNAME:CEST
DTSTART:20240331T010000
END:DAYLIGHT
BEGIN:STANDARD
TZOFFSETFROM:+0200
TZOFFSETTO:+0100
TZNAME:CET
DTSTART:20241027T010000
END:STANDARD
BEGIN:DAYLIGHT
TZOFFSETFROM:+0100
TZOFFSETTO:+0200
TZNAME:CEST
DTSTART:20250330T010000
END:DAYLIGHT
BEGIN:STANDARD
TZOFFSETFROM:+0200
TZOFFSETTO:+0100
TZNAME:CET
DTSTART:20251026T010000
END:STANDARD
BEGIN:DAYLIGHT
TZOFFSETFROM:+0100
TZOFFSETTO:+0200
TZNAME:CEST
DTSTART:20260329T010000
END:DAYLIGHT
BEGIN:STANDARD
TZOFFSETFROM:+0200
TZOFFSETTO:+0100
TZNAME:CET
DTSTART:20261025T010000
END:STANDARD
END:VTIMEZONE
BEGIN:VEVENT
DTSTART;VALUE=DATE:20250501
DTEND;VALUE=DATE:20250504
DTSTAMP:20260425T005028
CREATED:20251001T233441Z
LAST-MODIFIED:20251001T233441Z
UID:4832-1746057600-1746316799@portmataro.org
SUMMARY:Barcelona Foil Festival
DESCRIPTION:De l’1 al 3 de maig\, les nostres aigües es convertiran en escenari del Barcelona Foil Festival\, una competició internacional de primer nivell dedicada al foil\, una disciplina que està revolucionant el món de la vela. \nOrganitzat per Windparadise.com\, el festival reunirà esportistes d’arreu del món en regates espectaculars que sortiran de la platja de la Barceloneta i arribaran fins al Port de Mataró\, on els participants posaran a prova la seva habilitat i tècnica. \nEl foil utilitza una quilla especial que aixeca l’embarcació sobre l’aigua\, reduint la fricció i permetent assolir velocitats molt altes amb poca força de vent. Aquest sistema\, que ja forma part de la Copa Amèrica\, representa una nova generació en la navegació esportiva\, més lleugera\, eficient i emocionant.
URL:https://portmataro.org/event/barcelona-foil-festival/
ATTACH;FMTTYPE=image/png:https://portmataro.org/wp-content/uploads/2025/10/Captura-de-pantalla-2025-10-02-a-les-1.33.38.png
END:VEVENT
BEGIN:VEVENT
DTSTART;TZID=Europe/Madrid:20250507T120000
DTEND;TZID=Europe/Madrid:20250507T140000
DTSTAMP:20260425T005028
CREATED:20251001T234346Z
LAST-MODIFIED:20251001T234346Z
UID:4836-1746619200-1746626400@portmataro.org
SUMMARY:Dia de les Esquadres
DESCRIPTION:Durant el matí del 7 de maig\, celebrem el Dia de les Esquadres de l’Àrea Bàsica Policial de Mataró\, un acte d’homenatge i reconeixement als agents que vetllen per la seguretat dels nostres municipis.
URL:https://portmataro.org/event/dia-de-les-esquadres/
ATTACH;FMTTYPE=image/png:https://portmataro.org/wp-content/uploads/2025/10/Captura-de-pantalla-2025-10-02-a-les-1.41.03.png
END:VEVENT
BEGIN:VEVENT
DTSTART;VALUE=DATE:20250517
DTEND;VALUE=DATE:20250518
DTSTAMP:20260425T005028
CREATED:20250319T152116Z
LAST-MODIFIED:20251001T234424Z
UID:3814-1747440000-1747526399@portmataro.org
SUMMARY:IV Regata Inclusiva THALASSA
DESCRIPTION:Tens una embarcació a vela o motor al port de Mataró i t’agradaria compartir la teva passió? \nParticipa en la IV Regata Inclusiva THALASSA\, enguany dedicada als usuaris\, familiars i cuidadors de la Fundació el Maresme. Entitat de referència a la comarca pel seu treball amb el col·lectiu de la discapacitat intel·lectual. \nNo cal experiència prèvia en regates\, els velers menys competitius i les embarcacions a motor sortiran a mar per veure la regata des del mar acompanyats dels usuaris de la Fundació el Maresme. \nLa finalitat d’aquesta regata és brindar persones alienes a la nàutica\, l’oportunitat de formar part activa de la tripulació i compartir una jornada marinera. \nPer a més informació i inscripcions entreu en aquest enllaç: \nhttps://www.nauticasocial.org/iv-regata-inclusiva-thalassa
URL:https://portmataro.org/event/iv-regata-inclusiva-thalassa/
ATTACH;FMTTYPE=image/png:https://portmataro.org/wp-content/uploads/2025/03/Captura-de-pantalla-2025-10-02-a-les-1.42.19.png
END:VEVENT
BEGIN:VEVENT
DTSTART;TZID=Europe/Madrid:20250530T160000
DTEND;TZID=Europe/Madrid:20250530T183000
DTSTAMP:20260425T005028
CREATED:20251001T234721Z
LAST-MODIFIED:20251001T234721Z
UID:4842-1748620800-1748629800@portmataro.org
SUMMARY:Lliurament de medalles a l'Esport Escolar de Mataró
DESCRIPTION:Aquest 30 de maig\, més de 2.000 joves es concentren al Port de Mataró per recollir les medalles a l’Esport Escolar de Mataró!
URL:https://portmataro.org/event/lliurament-de-medalles-a-lesport-escolar-de-mataro/
ATTACH;FMTTYPE=image/png:https://portmataro.org/wp-content/uploads/2025/10/Captura-de-pantalla-2025-10-02-a-les-1.41.22.png
END:VEVENT
END:VCALENDAR