BEGIN:VCALENDAR
VERSION:2.0
PRODID:-//Port de Mataró - ECPv6.15.20//NONSGML v1.0//EN
CALSCALE:GREGORIAN
METHOD:PUBLISH
X-WR-CALNAME:Port de Mataró
X-ORIGINAL-URL:https://portmataro.org
X-WR-CALDESC:Esdeveniments per Port de Mataró
REFRESH-INTERVAL;VALUE=DURATION:PT1H
X-Robots-Tag:noindex
X-PUBLISHED-TTL:PT1H
BEGIN:VTIMEZONE
TZID:Europe/Madrid
BEGIN:DAYLIGHT
TZOFFSETFROM:+0100
TZOFFSETTO:+0200
TZNAME:CEST
DTSTART:20240331T010000
END:DAYLIGHT
BEGIN:STANDARD
TZOFFSETFROM:+0200
TZOFFSETTO:+0100
TZNAME:CET
DTSTART:20241027T010000
END:STANDARD
BEGIN:DAYLIGHT
TZOFFSETFROM:+0100
TZOFFSETTO:+0200
TZNAME:CEST
DTSTART:20250330T010000
END:DAYLIGHT
BEGIN:STANDARD
TZOFFSETFROM:+0200
TZOFFSETTO:+0100
TZNAME:CET
DTSTART:20251026T010000
END:STANDARD
BEGIN:DAYLIGHT
TZOFFSETFROM:+0100
TZOFFSETTO:+0200
TZNAME:CEST
DTSTART:20260329T010000
END:DAYLIGHT
BEGIN:STANDARD
TZOFFSETFROM:+0200
TZOFFSETTO:+0100
TZNAME:CET
DTSTART:20261025T010000
END:STANDARD
END:VTIMEZONE
BEGIN:VEVENT
DTSTART;TZID=Europe/Madrid:20250720T090000
DTEND;TZID=Europe/Madrid:20250720T120000
DTSTAMP:20260424T181419
CREATED:20250128T095537Z
LAST-MODIFIED:20251001T235230Z
UID:3708-1753002000-1753012800@portmataro.org
SUMMARY:32a Travessa nedant al Port
DESCRIPTION:Les nostres aigües seran\, un any més\, l’escenari de la Travessa nedant al Port\, que se celebrarà el pròxim 20 de juliol. \nAquesta activitat amb motiu de la Festa Major de la ciutat és un dels imprescindibles de les Santes Esportives. Enguany\, la Travessa nedant celebra la 32a edició amb dues proves: una de 500 i una altra de 1.000 metres.
URL:https://portmataro.org/event/travessa-nedant-al-port/
ATTACH;FMTTYPE=image/png:https://portmataro.org/wp-content/uploads/2025/01/Captura-de-pantalla-2025-10-02-a-les-1.52.09.png
END:VEVENT
END:VCALENDAR