BEGIN:VCALENDAR
VERSION:2.0
PRODID:-//Port de Mataró - ECPv6.15.20//NONSGML v1.0//EN
CALSCALE:GREGORIAN
METHOD:PUBLISH
X-ORIGINAL-URL:https://portmataro.org
X-WR-CALDESC:Esdeveniments per Port de Mataró
REFRESH-INTERVAL;VALUE=DURATION:PT1H
X-Robots-Tag:noindex
X-PUBLISHED-TTL:PT1H
BEGIN:VTIMEZONE
TZID:Europe/Madrid
BEGIN:DAYLIGHT
TZOFFSETFROM:+0100
TZOFFSETTO:+0200
TZNAME:CEST
DTSTART:20240331T010000
END:DAYLIGHT
BEGIN:STANDARD
TZOFFSETFROM:+0200
TZOFFSETTO:+0100
TZNAME:CET
DTSTART:20241027T010000
END:STANDARD
BEGIN:DAYLIGHT
TZOFFSETFROM:+0100
TZOFFSETTO:+0200
TZNAME:CEST
DTSTART:20250330T010000
END:DAYLIGHT
BEGIN:STANDARD
TZOFFSETFROM:+0200
TZOFFSETTO:+0100
TZNAME:CET
DTSTART:20251026T010000
END:STANDARD
BEGIN:DAYLIGHT
TZOFFSETFROM:+0100
TZOFFSETTO:+0200
TZNAME:CEST
DTSTART:20260329T010000
END:DAYLIGHT
BEGIN:STANDARD
TZOFFSETFROM:+0200
TZOFFSETTO:+0100
TZNAME:CET
DTSTART:20261025T010000
END:STANDARD
END:VTIMEZONE
BEGIN:VEVENT
DTSTART;TZID=Europe/Madrid:20251102T110000
DTEND;TZID=Europe/Madrid:20251102T114500
DTSTAMP:20260422T141638
CREATED:20251001T134459Z
LAST-MODIFIED:20251029T154309Z
UID:4754-1762081200-1762083900@portmataro.org
SUMMARY:Vermut i Versions
DESCRIPTION:El diumenge 2 de novembre el Port de Mataró oferirà una proposta diferent i amb molt de sabor: una sessió de Vermut i Versions. L’activitat convidarà a gaudir d’una estona relaxada a la vora del mar amb bona companyia\, tot acompanyat de música en directe a càrrec de Radio Funky\, que portaran al Port les seves versions més fresques i divertides. Una experiència pensada per combinar gastronomia\, lleure i cultura en un entorn únic i agradable.
URL:https://portmataro.org/event/vermut-i-versions/
ATTACH;FMTTYPE=image/png:https://portmataro.org/wp-content/uploads/2025/10/Captura-de-pantalla-2025-10-01-a-les-15.43.37.png
END:VEVENT
BEGIN:VEVENT
DTSTART;TZID=Europe/Madrid:20251102T120000
DTEND;TZID=Europe/Madrid:20251102T140000
DTSTAMP:20260422T141638
CREATED:20251001T133655Z
LAST-MODIFIED:20251029T154340Z
UID:4749-1762084800-1762092000@portmataro.org
SUMMARY:Sessió de Ioga amb Gym NAOS
DESCRIPTION:El Port de Mataró es convertirà en un espai de calma i benestar amb una sessió de ioga a l’aire lliure organitzada en col·laboració amb Gym NAOS Mataró. L’activitat està pensada per a totes les edats i nivells\, i ofereix l’oportunitat de practicar postures\, tècniques de respiració i relaxació en un entorn privilegiat davant del mar. Una proposta ideal per començar el dia amb energia positiva\, connectar cos i ment i gaudir d’un ambient tranquil i saludable al cor del Port.
URL:https://portmataro.org/event/sessio-de-ioga-amb-gym-naos/
ATTACH;FMTTYPE=image/png:https://portmataro.org/wp-content/uploads/2025/10/Captura-de-pantalla-2025-10-01-a-les-15.38.53.png
END:VEVENT
BEGIN:VEVENT
DTSTART;TZID=Europe/Madrid:20251123T080000
DTEND;TZID=Europe/Madrid:20251123T233000
DTSTAMP:20260422T141638
CREATED:20251107T140012Z
LAST-MODIFIED:20251107T144347Z
UID:5063-1763884800-1763940600@portmataro.org
SUMMARY:Diumenge de Salsa
DESCRIPTION:El diumenge 23 d’octubre el Port de Mataró es convertirà en una gran pista de ball amb una nova edició del Diumenge de Salsa. En aquesta ocasió\, l’activitat estarà dedicada a la salsa\, de la mà de Bailanama Escuela\, que faran moure l’esquelet a totes les persones assistents. \nLa jornada convida a gaudir d’una tarda diferent\, plena de música i ritme\, en un entorn privilegiat davant del mar. Una proposta oberta a tothom\, ideal tant per a qui ja domina els passos de salsa com per a aquells que vulguin deixar-se portar i aprendre envoltats de bon ambient. \nEl Diumenge de Salsa és una manera única d’acabar el mes amb energia i diversió\, reforçant el paper del Port de Mataró com a punt de trobada per a activitats culturals i socials que connecten amb la gent del territori.
URL:https://portmataro.org/event/diumenge-de-salsa/
END:VEVENT
END:VCALENDAR