BEGIN:VCALENDAR
VERSION:2.0
PRODID:-//Port de Mataró - ECPv6.15.20//NONSGML v1.0//EN
CALSCALE:GREGORIAN
METHOD:PUBLISH
X-ORIGINAL-URL:https://portmataro.org
X-WR-CALDESC:Esdeveniments per Port de Mataró
REFRESH-INTERVAL;VALUE=DURATION:PT1H
X-Robots-Tag:noindex
X-PUBLISHED-TTL:PT1H
BEGIN:VTIMEZONE
TZID:Europe/Madrid
BEGIN:DAYLIGHT
TZOFFSETFROM:+0100
TZOFFSETTO:+0200
TZNAME:CEST
DTSTART:20240331T010000
END:DAYLIGHT
BEGIN:STANDARD
TZOFFSETFROM:+0200
TZOFFSETTO:+0100
TZNAME:CET
DTSTART:20241027T010000
END:STANDARD
BEGIN:DAYLIGHT
TZOFFSETFROM:+0100
TZOFFSETTO:+0200
TZNAME:CEST
DTSTART:20250330T010000
END:DAYLIGHT
BEGIN:STANDARD
TZOFFSETFROM:+0200
TZOFFSETTO:+0100
TZNAME:CET
DTSTART:20251026T010000
END:STANDARD
BEGIN:DAYLIGHT
TZOFFSETFROM:+0100
TZOFFSETTO:+0200
TZNAME:CEST
DTSTART:20260329T010000
END:DAYLIGHT
BEGIN:STANDARD
TZOFFSETFROM:+0200
TZOFFSETTO:+0100
TZNAME:CET
DTSTART:20261025T010000
END:STANDARD
END:VTIMEZONE
BEGIN:VEVENT
DTSTART;TZID=Europe/Madrid:20251207T080000
DTEND;TZID=Europe/Madrid:20251207T110000
DTSTAMP:20260422T124335
CREATED:20251113T111341Z
LAST-MODIFIED:20251113T111411Z
UID:5070-1765094400-1765105200@portmataro.org
SUMMARY:Sessió de Cross Training + Vermut Versions
DESCRIPTION:El 7 de desembre a les 11 h\, tindrà lloc una sessió de Cross Training dirigida pel Gym Mataró NAOS\, seguida d’una sessió de Vermut & Versions amb Little Mouthers\, de 12 a 14 h. Música\, esport i mar per viure un matí actiu i divertit.
URL:https://portmataro.org/event/sessio-de-cross-training-vermut-versions/
ATTACH;FMTTYPE=image/png:https://portmataro.org/wp-content/uploads/2025/11/Street-Market-1-e1763032238881.png
END:VEVENT
BEGIN:VEVENT
DTSTART;TZID=Europe/Madrid:20251213T080000
DTEND;TZID=Europe/Madrid:20251214T170000
DTSTAMP:20260422T124335
CREATED:20251113T111658Z
LAST-MODIFIED:20251113T111658Z
UID:5073-1765612800-1765731600@portmataro.org
SUMMARY:Nova edició del Market Stories Pop-Up
DESCRIPTION:El mateix cap de setmana del 13 i 14 de desembre\, el Port es convertirà en un espai d’experiències amb el Market Stories Pop-Up. De l’11 a les 19 h\, s’hi podran trobar marques locals\, gastronomia i activitats\, tot en un entorn privilegiat com és el Port de Mataró.
URL:https://portmataro.org/event/nova-edicio-del-market-stories-pop-up/
ATTACH;FMTTYPE=image/png:https://portmataro.org/wp-content/uploads/2025/10/Captura-de-pantalla-2025-10-01-a-les-15.48.29.png
END:VEVENT
BEGIN:VEVENT
DTSTART;TZID=Europe/Madrid:20251213T080000
DTEND;TZID=Europe/Madrid:20251214T170000
DTSTAMP:20260422T124336
CREATED:20251113T113153Z
LAST-MODIFIED:20251113T113153Z
UID:5079-1765612800-1765731600@portmataro.org
SUMMARY:Campionat de Catalunya de Llagut Català
DESCRIPTION:El 13 i 14 de desembre\, el Port acollirà el Campionat de Catalunya de Llagut Català\, una competició que reunirà equips de tot el país per disputar el títol a les aigües del Maresme. Dos dies plens d’esport\, tradició i esperit de superació.
URL:https://portmataro.org/event/campionat-de-catalunya-de-llagut-catala/
ATTACH;FMTTYPE=image/webp:https://portmataro.org/wp-content/uploads/2025/11/c.webp
END:VEVENT
END:VCALENDAR