BEGIN:VCALENDAR
VERSION:2.0
PRODID:-//Port de Mataró - ECPv6.15.20//NONSGML v1.0//EN
CALSCALE:GREGORIAN
METHOD:PUBLISH
X-WR-CALNAME:Port de Mataró
X-ORIGINAL-URL:https://portmataro.org
X-WR-CALDESC:Esdeveniments per Port de Mataró
REFRESH-INTERVAL;VALUE=DURATION:PT1H
X-Robots-Tag:noindex
X-PUBLISHED-TTL:PT1H
BEGIN:VTIMEZONE
TZID:Europe/Madrid
BEGIN:DAYLIGHT
TZOFFSETFROM:+0100
TZOFFSETTO:+0200
TZNAME:CEST
DTSTART:20250330T010000
END:DAYLIGHT
BEGIN:STANDARD
TZOFFSETFROM:+0200
TZOFFSETTO:+0100
TZNAME:CET
DTSTART:20251026T010000
END:STANDARD
BEGIN:DAYLIGHT
TZOFFSETFROM:+0100
TZOFFSETTO:+0200
TZNAME:CEST
DTSTART:20260329T010000
END:DAYLIGHT
BEGIN:STANDARD
TZOFFSETFROM:+0200
TZOFFSETTO:+0100
TZNAME:CET
DTSTART:20261025T010000
END:STANDARD
BEGIN:DAYLIGHT
TZOFFSETFROM:+0100
TZOFFSETTO:+0200
TZNAME:CEST
DTSTART:20270328T010000
END:DAYLIGHT
BEGIN:STANDARD
TZOFFSETFROM:+0200
TZOFFSETTO:+0100
TZNAME:CET
DTSTART:20271031T010000
END:STANDARD
END:VTIMEZONE
BEGIN:VEVENT
DTSTART;TZID=Europe/Madrid:20260105T110000
DTEND;TZID=Europe/Madrid:20260105T130000
DTSTAMP:20260422T111247
CREATED:20260105T143046Z
LAST-MODIFIED:20260105T143507Z
UID:5161-1767610800-1767618000@portmataro.org
SUMMARY:Arribada dels Reis d'Orient
DESCRIPTION:El dilluns 5 de gener\, el Port de Mataró tornarà a acollir un dels moments més esperats de l’any amb l’arribada per mar de Melcior\, Gaspar i Baltasar. \nSes Majestats els Reis d’Orient desembarcaran al Port a bord del llaüt centenari Sant Ramon\, després que en Tempus\, en Tic-Tac i la Polaris els indiquin el punt on amarrar. Un acte molt especial i multitudinari que donarà el tret de sortida a la nit més màgica de l’any. \nTot seguit\, l’alcalde de la ciutat farà lliurament de la clau de Mataró als Reis d’Orient\, perquè puguin entrar a totes les cases i repartir regals i il·lusió a tots els infants. \nL’arribada comptarà amb la música en directe de la Banda de l’Agrupació Musical del Maresme\, que posarà la banda sonora a aquest moment tan emblemàtic per a la ciutat.
URL:https://portmataro.org/event/arribada-dels-reis-dorient/
ATTACH;FMTTYPE=image/jpeg:https://portmataro.org/wp-content/uploads/2026/01/TP-Port_Mataro-Reis-33-scaled.jpg
END:VEVENT
END:VCALENDAR